BEGIN:VCALENDAR
VERSION:2.0
PRODID:-//Szatymaz.hu - ECPv5.6.0//NONSGML v1.0//EN
CALSCALE:GREGORIAN
METHOD:PUBLISH
X-WR-CALNAME:Szatymaz.hu
X-ORIGINAL-URL:https://site.szatymaz.hu
X-WR-CALDESC:Events for Szatymaz.hu
BEGIN:VTIMEZONE
TZID:Europe/Helsinki
BEGIN:DAYLIGHT
TZOFFSETFROM:+0200
TZOFFSETTO:+0300
TZNAME:EEST
DTSTART:20220327T010000
END:DAYLIGHT
BEGIN:STANDARD
TZOFFSETFROM:+0300
TZOFFSETTO:+0200
TZNAME:EET
DTSTART:20221030T010000
END:STANDARD
BEGIN:DAYLIGHT
TZOFFSETFROM:+0200
TZOFFSETTO:+0300
TZNAME:EEST
DTSTART:20230326T010000
END:DAYLIGHT
BEGIN:STANDARD
TZOFFSETFROM:+0300
TZOFFSETTO:+0200
TZNAME:EET
DTSTART:20231029T010000
END:STANDARD
BEGIN:DAYLIGHT
TZOFFSETFROM:+0200
TZOFFSETTO:+0300
TZNAME:EEST
DTSTART:20240331T010000
END:DAYLIGHT
BEGIN:STANDARD
TZOFFSETFROM:+0300
TZOFFSETTO:+0200
TZNAME:EET
DTSTART:20241027T010000
END:STANDARD
BEGIN:DAYLIGHT
TZOFFSETFROM:+0200
TZOFFSETTO:+0300
TZNAME:EEST
DTSTART:20250330T010000
END:DAYLIGHT
BEGIN:STANDARD
TZOFFSETFROM:+0300
TZOFFSETTO:+0200
TZNAME:EET
DTSTART:20251026T010000
END:STANDARD
BEGIN:DAYLIGHT
TZOFFSETFROM:+0200
TZOFFSETTO:+0300
TZNAME:EEST
DTSTART:20260329T010000
END:DAYLIGHT
BEGIN:STANDARD
TZOFFSETFROM:+0300
TZOFFSETTO:+0200
TZNAME:EET
DTSTART:20261025T010000
END:STANDARD
END:VTIMEZONE
BEGIN:VEVENT
DTSTART;TZID=Europe/Helsinki:20260219T083000
DTEND;TZID=Europe/Helsinki:20260219T170000
DTSTAMP:20260422T111621
CREATED:20260107T153209Z
LAST-MODIFIED:20260115T171049Z
UID:14288-1771489800-1771520400@site.szatymaz.hu
SUMMARY:Barackvirágnap és metszési bemutató
DESCRIPTION:Az előadások helyszíne:\nDankó Pista Művelődési Ház\n6763 Szatymaz\, Dózsa György utca 42.\n\n2026. február 19.\n9.00   Megnyitó:  Szél István NAK Csongrád-Csanád vármegyei elnök\nKöszöntő  dr. Mártonffy Béla NAK elnöki tanácsadó\nKomma László NAK Mezőgazdasági Igazgatóság – kertészeti szakértő\n\nElőadások\n 9.30 A fagyvédelmi technológiák és a kárenyhítési mechanizmusok szerepe a tavaszi fagyok kárhatásának kezelésében – avagy a lét a tét! \ndr. Apáti Ferenc FruitVeB – elnök\, Debreceni Egyetem MÉK – intézetvezető\, egyetemi docens\n11.00    Korunk válsága\, avagy miért nem érték végre a talaj?\ndr. Parádi István ELTE Növényélettani és Molekuláris Növénybiológiai Tanszék\, adjunktus\n\nBemutatók\n13.45 Interaktív metszési bemutató\nTechnikai bemutatók\n\nA bemutatók helyszíne: Gyuris Mihály őszibarack-ültetvénye\nSzatymaz\, IV. körzet 104. (46.361003\, 20.049387)\nA helyszín Google térképen\n\n\n\n\ninfovonal: 30 229 7316 Gyuris Mihály\n\nszervezők:\nA Dél-alföldi Őszibarack-termesztők Szövetsége\nés Szatymaz Község Önkormányzata
URL:https://site.szatymaz.hu/esemeny/barackviragnap-es-metszesi-bemutato/
LOCATION:Szatymazi faluház\, Dózsa Gy. u. 42.\, Szatymaz\, 6763
ATTACH;FMTTYPE=image/png:https://site.szatymaz.hu/wp-content/uploads/2024/01/barackvirag-webi.png
END:VEVENT
BEGIN:VEVENT
DTSTART;TZID=Europe/Helsinki:20250220T083000
DTEND;TZID=Europe/Helsinki:20250220T170000
DTSTAMP:20260422T111621
CREATED:20250120T122943Z
LAST-MODIFIED:20250123T113851Z
UID:12222-1740040200-1740070800@site.szatymaz.hu
SUMMARY:31. Barackvirágnap és metszési bemutató
DESCRIPTION:Az esemény a Facebookon\nA Dél-alföldi Őszibarack-termesztők Szövetsége és Szatymaz Község Önkormányzata szervezésében\n\nElőadások\n\n  9.00   Megnyitó / Szél István – NAK Csongrád-Csanád vármegyei elnök\n  9.10   Köszöntő / Farkas Sándor miniszterhelyettes\, államtitkár és Dr. Mártonffy Béla – NAK elnöki tanácsadó\n  9.30    Hazai szaporítóanyag felügyeleti és nemzetközi információk a csonthéjasok alanyhasználatáról / Varga László témafelelős\,szaporítóanyag felügyelő (NÉBIH)\n10.00  A humusztartalom növelésének hatása és lehetőségei a gyümölcstermesztésben / Dominik Schreiber (Robert Schreiber Faiskola\, Poysdorf)\n\n13.45  Metszési és technikai bemutatók – Gyuris Mihály őszibarack-ültetvénye / Szatymaz\, IV. körzet 104. ( (46.361003\, 20.049387))\nInteraktív metszési bemutató\nTechnikai bemutatók\nVadkertAgro\nHand\nPlantaDrone\nF-Airgo\nWepifrost\nBiocont Magyarország\n\n\ninformáció: Gyuris Mihály (tel.: 30 229 7316)\n\n\nA 2024-es Barackvirágnap képei
URL:https://site.szatymaz.hu/esemeny/31-barackviragnap-es-metszesi-bemutato/
LOCATION:Szatymazi faluház\, Dózsa Gy. u. 42.\, Szatymaz\, 6763
ATTACH;FMTTYPE=image/jpeg:https://site.szatymaz.hu/wp-content/uploads/2024/02/metszesi.jpg
END:VEVENT
BEGIN:VEVENT
DTSTART;TZID=Europe/Helsinki:20240222T090000
DTEND;TZID=Europe/Helsinki:20240222T160000
DTSTAMP:20260422T111621
CREATED:20240109T100727Z
LAST-MODIFIED:20240118T145727Z
UID:9736-1708592400-1708617600@site.szatymaz.hu
SUMMARY:30. Barackvirágnap és metszési bemutató
DESCRIPTION:A Dél-alföldi Őszibarack-termesztők Szövetsége és Szatymaz Község Önkormányzata szervezésében\n\n\n\n2024. február  22.\n\n  9.00   Megnyitó / Szél István – NAK Csongrád-Csanád vármegyei elnök\n  9.10   Köszöntő / Farkas Sándor miniszterhelyettes\, államtitkár és Dr. Mártonffy Béla – NAK országos kertészeti és beszállítói osztályelnök\n  9.20   Dr. Szabó Zoltán egyetemi tanár: Időutazás a szatymazi termőtájon\n  9.50   Szünet\n10.10   Dr. Ignasi Iglesias ügyvezető (Agromillora Group): Versenyképes őszibarack-termesztés spanyol nézőpontból\n\n13.00  Metszési és technikai bemutatók – Gyuris Mihály őszibarack-ültetvénye / Szatymaz\, IV. körzet 104.\nMetszési bemutató (Dr. Szabó Zoltán egyetemi tanár\, Szél István gazdatárs)\nTelepített fagyvédelmi gép bemutató (HAND Kft.)\nDrónos precíziós gazdálkodás és fagyvédelmi eljárások (PlantaDrone Kft.)\nFagyvédelmi bemutató (F-Airgo)\nLégkeveréses fagyvédelem (Wepifrost)\nAz esemény a Facebookon \ninformáció: Gyuris Mihály (tel.: 30 229 7316)
URL:https://site.szatymaz.hu/esemeny/30-barackviragnap-es-metszesi-bemutato/
LOCATION:Szatymazi faluház\, Dózsa Gy. u. 42.\, Szatymaz\, 6763
ATTACH;FMTTYPE=image/png:https://site.szatymaz.hu/wp-content/uploads/2024/01/barackvirag-webi.png
END:VEVENT
BEGIN:VEVENT
DTSTART;TZID=Europe/Helsinki:20230316T090000
DTEND;TZID=Europe/Helsinki:20230316T153000
DTSTAMP:20260422T111621
CREATED:20230215T133918Z
LAST-MODIFIED:20230216T135503Z
UID:7482-1678957200-1678980600@site.szatymaz.hu
SUMMARY:29. Barackvirágnap és metszési bemutató
DESCRIPTION:29. Barackvirágnap és metszési bemutató \nDankó Pista Faluház\n6763 Szatymaz\, Dózsa György utca 42. \nA Dél-alföldi Őszibarack-termesztők Szövetsége és Szatymaz Község Önkormányzata szervezésében \n2023. március 16. \n9.00 Megnyitó / Szél István NAK Csongrád-Csanád vármegyei elnök\n9.10 Köszöntő / Farkas Sándor miniszterhelyettes\, államtitkár és Dr. Mártonffy Béla – NAK országos kertészeti és beszállítói osztályelnök\n9.30 Az ázsiai márványospoloska csapdázása / dr. Fail József – Magyar Agrár- és Élettudományi Egyetem intézetigazgató\, egyetemi docens\n10.30 Szünet\n11.00 MIÉRT? Regeneratív talajművelés a gyümölcsültetvényekben / Kökény Attila\n11.30 HOGYAN? Regeneratív talajművelés a gyümölcsültetvényekben / Zomborszki Attila István \n13.30 Metszési és technikai bemutatók (Gyuris Mihály őszibarack-ültetvénye / Szatymaz\, IV. körzet 104.)\nMetszési bemutató\nFAIRGO V20-21 tipusú fagyvédelmi légkeverőgép bemutatója / Navik Agri Kft.\nDrónos permetezés bemutató / PlantaDrone Kft. \ninformáció: Gyuris Mihály (tel.: 30 229 7316) \n  \nTámogatók: Nemzeti Agrárgazdasági Kamara · Biocont Magyarország Kft \nMédiatámogató: Kertészet és Szőlészet \nPartnerek: Agro-Consulting Trade Kft. · Agrolánc Kft. · Delap Kft. · Interfruit Kft. Hand Kft. · Kertcenter Kft. · Navik Alfa Kft. · PlantaDrone Kft. Profi Seeds Agro Kft. · SeedPlus Kft. · WepiFrostFans Fagyvédelmi Kft. ZFW Hortiservice Kft. \n  \n 
URL:https://site.szatymaz.hu/esemeny/29-barackviragnap-es-metszesi-bemutato/
LOCATION:Szatymazi faluház\, Dózsa Gy. u. 42.\, Szatymaz\, 6763
CATEGORIES:Esemény
ATTACH;FMTTYPE=image/png:https://site.szatymaz.hu/wp-content/uploads/2023/02/barivirag.png
END:VEVENT
BEGIN:VEVENT
DTSTART;TZID=Europe/Helsinki:20220303T090000
DTEND;TZID=Europe/Helsinki:20220303T160000
DTSTAMP:20260422T111621
CREATED:20220205T074624Z
LAST-MODIFIED:20220225T081555Z
UID:5004-1646298000-1646323200@site.szatymaz.hu
SUMMARY:28. Barackvirágnap és metszési bemutató
DESCRIPTION:Az semény a Facebookon \nElőadások\nDankó Pista Faluház / Szatymaz\, Dózsa Gy. u. 42.\nModerátor: Szél István – Csongrád-Csanád Megyei Kormányhivatal \n9.00 Megnyitó / Dr. Mártonffy Béla osztályvezető – NAK Országos Kertészeti Osztály\n9.15 Köszöntő / Farkas Sándor miniszterhelyettes\, államtitkár\n9.30 Dr. Nyéki József munkássága a szatymazi őszibarack termőtájban\n9.45 Őszibarackpiaci kitekintés. Európai is hazai adatok a termelés és a kereskedelem helyzetéről / Kelemen Péter – Fruitveb gyümölcstermesztőkért felelős alelnök\n10.45 Szünet\n11.15 Kútlegalizálás\, talajvízkutak bejelentése. A 2021-es év tapasztalatai / az előadó felkérés alatt\n11.45 A klímaváltozás hatásai a termesztés technológiában az elmúlt 10 évben. Itt a vég? / Kaponyás Ilona\, szaktanácsadó \n13.45 Bemutatók\nGyuris Mihály őszibarack-ültetvénye / Szatymaz\, IV. körzet 104. \nMetszési bemutató / Vass Károly kertészmérnök\, okl. növényorvos\nSzélgép bemutató / Hand Kft.\nDrónos permetezés bemutató / PlantaDrone Kft. \nA rendezvényen Simon Ferenc festményei láthatók.\nA rendezvényen az aktuális korlátozásokat betartjuk! \nDél-alföldi Őszibarack-termesztők Szövetsége\nSzatymaz Község Önkormányzata
URL:https://site.szatymaz.hu/esemeny/28-barackviragnap-es-metszesi-bemutato/
LOCATION:Szatymazi faluház\, Dózsa Gy. u. 42.\, Szatymaz\, 6763
ATTACH;FMTTYPE=image/png:https://site.szatymaz.hu/wp-content/uploads/2022/02/face-cover.png
END:VEVENT
END:VCALENDAR