BEGIN:VCALENDAR
VERSION:2.0
PRODID:-//Szatymaz.hu - ECPv5.6.0//NONSGML v1.0//EN
CALSCALE:GREGORIAN
METHOD:PUBLISH
X-WR-CALNAME:Szatymaz.hu
X-ORIGINAL-URL:https://site.szatymaz.hu
X-WR-CALDESC:Events for Szatymaz.hu
BEGIN:VTIMEZONE
TZID:Europe/Helsinki
BEGIN:DAYLIGHT
TZOFFSETFROM:+0200
TZOFFSETTO:+0300
TZNAME:EEST
DTSTART:20210328T010000
END:DAYLIGHT
BEGIN:STANDARD
TZOFFSETFROM:+0300
TZOFFSETTO:+0200
TZNAME:EET
DTSTART:20211031T010000
END:STANDARD
END:VTIMEZONE
BEGIN:VEVENT
DTSTART;TZID=Europe/Helsinki:20211001T080000
DTEND;TZID=Europe/Helsinki:20211001T100000
DTSTAMP:20260421T140234
CREATED:20210818T130105Z
LAST-MODIFIED:20210818T130105Z
UID:4084-1633075200-1633082400@site.szatymaz.hu
SUMMARY:Tisza rézfúvós kvintett 2.0 - Kamara zenekar Szatymazon
DESCRIPTION:Kvintettünk gerincét a Szegedi Szimfonikus Zenekar adja. Olyan repertoárral\, és kreativitással rendelkezünk\, mely minden rendezvény igényét kielégíti\, legyen az hangszerbemutató\, esküvő\, vagy kiállításmegnyitó.\nVárunk mindenkit sok szeretettel Szatymazra!\nA koncert ingyenes!
URL:https://site.szatymaz.hu/esemeny/tisza-rezfuvos-kvintett-2-0-kamara-zenekar-szatymazon/
LOCATION:Szent István Katolikus Általános Iskola\, Petőfi Sándor u. 6\, Szatymaz\, Csongrád - Csanád megye\, 6763\, Magyarország
END:VEVENT
END:VCALENDAR