BEGIN:VCALENDAR
VERSION:2.0
PRODID:-//Szatymaz.hu - ECPv5.6.0//NONSGML v1.0//EN
CALSCALE:GREGORIAN
METHOD:PUBLISH
X-WR-CALNAME:Szatymaz.hu
X-ORIGINAL-URL:https://site.szatymaz.hu
X-WR-CALDESC:Events for Szatymaz.hu
BEGIN:VTIMEZONE
TZID:Europe/Helsinki
BEGIN:DAYLIGHT
TZOFFSETFROM:+0200
TZOFFSETTO:+0300
TZNAME:EEST
DTSTART:20220327T010000
END:DAYLIGHT
BEGIN:STANDARD
TZOFFSETFROM:+0300
TZOFFSETTO:+0200
TZNAME:EET
DTSTART:20221030T010000
END:STANDARD
BEGIN:DAYLIGHT
TZOFFSETFROM:+0200
TZOFFSETTO:+0300
TZNAME:EEST
DTSTART:20230326T010000
END:DAYLIGHT
BEGIN:STANDARD
TZOFFSETFROM:+0300
TZOFFSETTO:+0200
TZNAME:EET
DTSTART:20231029T010000
END:STANDARD
BEGIN:DAYLIGHT
TZOFFSETFROM:+0200
TZOFFSETTO:+0300
TZNAME:EEST
DTSTART:20240331T010000
END:DAYLIGHT
BEGIN:STANDARD
TZOFFSETFROM:+0300
TZOFFSETTO:+0200
TZNAME:EET
DTSTART:20241027T010000
END:STANDARD
BEGIN:DAYLIGHT
TZOFFSETFROM:+0200
TZOFFSETTO:+0300
TZNAME:EEST
DTSTART:20250330T010000
END:DAYLIGHT
BEGIN:STANDARD
TZOFFSETFROM:+0300
TZOFFSETTO:+0200
TZNAME:EET
DTSTART:20251026T010000
END:STANDARD
BEGIN:DAYLIGHT
TZOFFSETFROM:+0200
TZOFFSETTO:+0300
TZNAME:EEST
DTSTART:20260329T010000
END:DAYLIGHT
BEGIN:STANDARD
TZOFFSETFROM:+0300
TZOFFSETTO:+0200
TZNAME:EET
DTSTART:20261025T010000
END:STANDARD
END:VTIMEZONE
BEGIN:VEVENT
DTSTART;TZID=Europe/Helsinki:20220611T180000
DTEND;TZID=Europe/Helsinki:20220611T220000
DTSTAMP:20260421T111823
CREATED:20220530T070133Z
LAST-MODIFIED:20220530T071442Z
UID:5814-1654970400-1654984800@site.szatymaz.hu
SUMMARY:Horváth Dániel Dudu & Őri Kiss Botond duó
DESCRIPTION:Piréz dallamok >>> Dudu\, a szombathelyi hegedűvirtuóz és Boti\, a Duna-kanyar érzékeny zongorista-zeneszerzője Szatymazon! \n+népzene\n+jazz\n+klasszikus \nA Tér-Zene Program támogatásával\nA rendezvény ingyenes \n 
URL:https://site.szatymaz.hu/esemeny/horvath-daniel-dudu-ori-kiss-botond-duo/
LOCATION:Szatymazon a Nyár alatt\, Dózsa Gy. u. 42.\, Szatymaz\, Csongrád\, 6763\, Magyarország
ATTACH;FMTTYPE=image/jpeg:https://site.szatymaz.hu/wp-content/uploads/2022/05/dududoti.jpg
END:VEVENT
BEGIN:VEVENT
DTSTART;TZID=Europe/Helsinki:20220611T190000
DTEND;TZID=Europe/Helsinki:20220611T210000
DTSTAMP:20260421T111823
CREATED:20220530T071709Z
LAST-MODIFIED:20220530T071709Z
UID:5821-1654974000-1654981200@site.szatymaz.hu
SUMMARY:Palacsintás gasztroest
DESCRIPTION:Piréz desszert \nAz ételt a Kultúrklubikos készíti\nKözreműködik a Báló Vendéglő\, a gondozási központ és a Szatymazi Nőegylet \nÉtelkóstoló: 1500 Ft \nElőzetes regisztráció szükséges >\ndankomuvhaz@gmail.com\ntel.: 62 583 520
URL:https://site.szatymaz.hu/esemeny/palacsintas-gasztroest/
LOCATION:Szatymazon a Nyár alatt\, Dózsa Gy. u. 42.\, Szatymaz\, Csongrád\, 6763\, Magyarország
ATTACH;FMTTYPE=image/jpeg:https://site.szatymaz.hu/wp-content/uploads/2022/05/pirez-palacsinta.jpg
END:VEVENT
BEGIN:VEVENT
DTSTART;TZID=Europe/Helsinki:20230902T170000
DTEND;TZID=Europe/Helsinki:20230902T193000
DTSTAMP:20260421T111823
CREATED:20230731T081533Z
LAST-MODIFIED:20230731T094442Z
UID:8745-1693674000-1693683000@site.szatymaz.hu
SUMMARY:Mongol-kínai gasztroest és koncert
DESCRIPTION:Szeptember 2-án 17 órakor egy izgalmas mongol-kínai gasztroest és koncert lesz a faluházban. \nAz eseményen egy gazdag gasztronómiai élményre számíthatunk\, amely mongol és kínai konyha különlegességeit mutatja be. Így megkóstolhatunk autentikus és ízletes ételt\, amelyek jellemzőek ezekre a kultúrákra. A gasztronómiai est remek alkalmat nyújt arra\, hogy megismerjük és megszeressük a keleti kulináris világot. A mikrofonnál és a fazekak melett is: Qingele Qingele\, a mongol kulinária és a torokének mestere. \nÉrdemes részt venni az eseményen\, ha érdekelnek a távol-keleti ízek és dallamok!
URL:https://site.szatymaz.hu/esemeny/mongol-kinai-gasztroest-es-koncert/
LOCATION:Szatymazon a Nyár alatt\, Dózsa Gy. u. 42.\, Szatymaz\, Csongrád\, 6763\, Magyarország
ATTACH;FMTTYPE=image/jpeg:https://site.szatymaz.hu/wp-content/uploads/2023/07/DzsinnKaladzsi.jpeg
END:VEVENT
BEGIN:VEVENT
DTSTART;TZID=Europe/Helsinki:20230916T140000
DTEND;TZID=Europe/Helsinki:20230916T220000
DTSTAMP:20260421T111823
CREATED:20230731T081847Z
LAST-MODIFIED:20230823T113801Z
UID:8750-1694872800-1694901600@site.szatymaz.hu
SUMMARY:Itt repül a nyár!
DESCRIPTION:𝐒𝐳𝐞𝐩𝐭𝐞𝐦𝐛𝐞𝐫 16-𝐚́𝐧 𝟏𝟒 𝐨́𝐫𝐚́𝐭𝐨́𝐥!  várunk családoddal\, barátaiddal és/vagy kollégáiddal egy jó hangulatú nyárbúcsúztató közösségi piknikre. \n14:00 órától várunk mindenkit – korosztálytól függetlenül – izgalmas játékokkal \n  \nVeterán járgányok és minden ami Retró! \nElrepült a nyár – nyárbúcsúztató “batyus” családi piknik \nGyertek el JÁTSZANI\, NEVETNI! \nFőzzünk együtt! vagy csak (l)együnk együtt! Köszönjünk el együtt a nyártól! \n  \nZenei desszert 17 órától a RETROCK \nés DJ RANDOM \nKertmozi: VUK ÉS CSINIBABA \n  \nés minden\, ami egy jó retró szombat estéhez kell… \n 
URL:https://site.szatymaz.hu/esemeny/itt-repul-a-nyar/
LOCATION:Szatymazon a Nyár alatt\, Dózsa Gy. u. 42.\, Szatymaz\, Csongrád\, 6763\, Magyarország
ATTACH;FMTTYPE=image/jpeg:https://site.szatymaz.hu/wp-content/uploads/2023/07/ittrepul-a-nyar.jpg
END:VEVENT
BEGIN:VEVENT
DTSTART;TZID=Europe/Helsinki:20240418T180000
DTEND;TZID=Europe/Helsinki:20240418T190000
DTSTAMP:20260421T111823
CREATED:20240417T112129Z
LAST-MODIFIED:20240417T112129Z
UID:10397-1713463200-1713466800@site.szatymaz.hu
SUMMARY:Versekkel a tűz körül! – Közös verselés
DESCRIPTION:🚶🏽‍♂️Kilépünk\, a hétköznapokból egy kicsit 🧍🏽‍♂️megállunk és elmélyülünk a pillanatban. \nVerseljünk közösen\, hozd el kedvenc szerződ egyik alkotását és oszd meg velünk a tűz körül… de ha csak hallgatnád a verseket\, akkor is szeretettel várunk! \n  \nHa van nyársad\, hozd magaddal\, mert ahogy a verselés tüze lelohad\, a parázson sütögethetnénk közösen!… Szalonnánk\, krumplink\, hagymánk\, kolbászunk van. 😊 \n„A huszadik században a vers annyira öncélúvá alakult\, hogy némelynek írója úgy véli\, ami átvillan a fején\, az már líra. Rettenetes félreértés. A versben nem magunkról és magunknak kell beszélnünk\, hanem azokról a gondolatokról\, érzésekről\, amelyek ott lappangnak az olvasókban is.” (Illyés Gyula) \n📍Hol? \nA NYÁR ALATT \nSzatymaz\, Dankó Pista Művelődési Ház \n⌚️Mikor? \n\náprilis 18-án 18 órától\n\nA részvétel ingyenes! \n 
URL:https://site.szatymaz.hu/esemeny/versekkel-a-tuz-korul-kozos-verseles/
LOCATION:Szatymazon a Nyár alatt\, Dózsa Gy. u. 42.\, Szatymaz\, Csongrád\, 6763\, Magyarország
ATTACH;FMTTYPE=image/jpeg:https://site.szatymaz.hu/wp-content/uploads/2024/04/tuz-korul.jpg
END:VEVENT
BEGIN:VEVENT
DTSTART;TZID=Europe/Helsinki:20240525T090000
DTEND;TZID=Europe/Helsinki:20240525T130000
DTSTAMP:20260421T111823
CREATED:20240523T140956Z
LAST-MODIFIED:20240523T140956Z
UID:10584-1716627600-1716642000@site.szatymaz.hu
SUMMARY:Gyereknap
DESCRIPTION:9:30 Furi Feri az állatkertben // zenés-mesés interaktív gyermekműsor \n9:30-tól folyamatosan:\n– Homokhát Őrzője kennel – Komondor simogatója\n– Arcfestés 10:00 órától a Csipet Csapat Nagycsaládos Egyesület jóvoltából\n– Kézműves foglalkozás\n– Ügyességi verseny\n– Palacsintaparty a Gondozási Központtal\n– Limonádé a Szatymazi Nőegylettől\n– ugrálóvár\nJÁTÉK\, MÓKA\, KACAGÁS
URL:https://site.szatymaz.hu/esemeny/gyereknap/
LOCATION:Szatymazon a Nyár alatt\, Dózsa Gy. u. 42.\, Szatymaz\, Csongrád\, 6763\, Magyarország
ATTACH;FMTTYPE=image/jpeg:https://site.szatymaz.hu/wp-content/uploads/2024/05/gyereknap.jpg
END:VEVENT
BEGIN:VEVENT
DTSTART;TZID=Europe/Helsinki:20250410T180000
DTEND;TZID=Europe/Helsinki:20250410T190000
DTSTAMP:20260421T111823
CREATED:20250331T080003Z
LAST-MODIFIED:20250331T080003Z
UID:12518-1744308000-1744311600@site.szatymaz.hu
SUMMARY:Versekkel a tűz körül! – közös verselés
DESCRIPTION:Versekkel a tűz körül! – közös verselés \nKilépünk a hétköznapokból egy kicsit megállunk és elmélyülünk a pillanatban. \nVerseljünk közösen\, hozd el kedvenc szerződ egyik alkotását és oszd meg velünk a tűz körül… de ha csak hallgatnád a verseket\, akkor is szeretettel várunk! \nHa van nyársad\, hozd magaddal\, mert ahogy a verselés tüze lelohad\, a parázson sütögethetnénk közösen!… Szalonnánk\, krumplink\, hagymánk\, kolbászunk van. \n„A huszadik században a vers annyira öncélúvá alakult\, hogy némelynek írója úgy véli\, ami átvillan a fején\, az már líra. Rettenetes félreértés. A versben nem magunkról és magunknak kell beszélnünk\, hanem azokról a gondolatokról\, érzésekről\, amelyek ott lappangnak az olvasókban is.” (Illyés Gyula) \nHol?\nA NYÁR ALATT\nSzatymaz\, Dankó Pista Művelődési Ház \nMikor?\n2025. április 10-én 18 órától \n \n 
URL:https://site.szatymaz.hu/esemeny/versekkel-a-tuz-korul-kozos-verseles-2/
LOCATION:Szatymazon a Nyár alatt\, Dózsa Gy. u. 42.\, Szatymaz\, Csongrád\, 6763\, Magyarország
ATTACH;FMTTYPE=image/jpeg:https://site.szatymaz.hu/wp-content/uploads/2025/03/481703558_1043531211143261_8746452335230929168_n.jpg
END:VEVENT
BEGIN:VEVENT
DTSTART;TZID=Europe/Helsinki:20250831T140000
DTEND;TZID=Europe/Helsinki:20250831T200000
DTSTAMP:20260421T111823
CREATED:20250831T082405Z
LAST-MODIFIED:20250831T082405Z
UID:13473-1756648800-1756670400@site.szatymaz.hu
SUMMARY:Itt repül a nyár! – batyus piknik
DESCRIPTION:Egy jó hangulatú nyárbúcsúztató közösségi piknikre.várunk családoddal\, barátaiddal. \nPalacsintapartyIngyenes Ugrálóvár\, Woodeyo- játékokNemezelésArcfestésKürtőskalács\, cukorka\, büfé\, jégkása\, fagyi vár mindenkit!\nElrepült a nyár – nyárbúcsúztató “batyus” családi piknikGyertek el JÁTSZANI\, NEVETNI!\n\nFőzzünk együtt! vagy csak (l)együnk együtt! Köszönjünk el együtt a nyártól! \nKevesebb jelenjen meg\n\n16 órától VETERÁN JÁRGÁNYOK TALÁLKOZÓJA\, Szépségverseny és minden ami retró!Gyülekező a Szatymazi AVIA kútnál 15:30 és 15:45 között.Majd közös gurulás Szatymazon.Érkezés a Faluházhoz 16 órakor!\n\n18 órától zenél a OnlyCash zenekar19:30-tól kertmozi a NYÁR ALATT! – MADE IN HUNGÁRIA
URL:https://site.szatymaz.hu/esemeny/itt-repul-a-nyar-batyus-piknik/
LOCATION:Szatymazon a Nyár alatt\, Dózsa Gy. u. 42.\, Szatymaz\, Csongrád\, 6763\, Magyarország
ATTACH;FMTTYPE=image/jpeg:https://site.szatymaz.hu/wp-content/uploads/2025/08/532318297_1168473775315670_7007299774755991355_n.jpg
END:VEVENT
BEGIN:VEVENT
DTSTART;TZID=Europe/Helsinki:20260207T160000
DTEND;TZID=Europe/Helsinki:20260207T193000
DTSTAMP:20260421T111823
CREATED:20260204T115641Z
LAST-MODIFIED:20260204T115641Z
UID:14446-1770480000-1770492600@site.szatymaz.hu
SUMMARY:Szatymazi farsangoló. Vidám téltemetés
DESCRIPTION:Vidám téltemetés\nJELMEZES CSALÁDI PROGRAM\nŰzzük el együtt a telet 2026. február 7-én!Találkozzunk a MŰVELŐDÉSI HÁZ ELŐTT február 7-én 16 órakor\,\nA talpalávalót a CSERGŐ BANDA muzsikusai húzzák\nFÁNK I FORRALT BOR I TEA a Szatymazi Nőegylet szorgos asszonyainak jóvoltából\nKÜRTŐSKALÁCS\, CUKORKA\nFARSANGI JÁTÉKOK készítése a Nyugdíjas Egyesülettel
URL:https://site.szatymaz.hu/esemeny/szatymazi-farsangolo-vidam-teltemetes/
LOCATION:Szatymazon a Nyár alatt\, Dózsa Gy. u. 42.\, Szatymaz\, Csongrád\, 6763\, Magyarország
ATTACH;FMTTYPE=image/jpeg:https://site.szatymaz.hu/wp-content/uploads/2026/02/farsangolo.jpg
END:VEVENT
BEGIN:VEVENT
DTSTART;TZID=Europe/Helsinki:20260415T180000
DTEND;TZID=Europe/Helsinki:20260415T200000
DTSTAMP:20260421T111823
CREATED:20260410T103859Z
LAST-MODIFIED:20260410T103859Z
UID:14740-1776276000-1776283200@site.szatymaz.hu
SUMMARY:Versekkel a tűz körül – A Magyar Költészet Napja
DESCRIPTION:
URL:https://site.szatymaz.hu/esemeny/versekkel-a-tuz-korul-a-magyar-kolteszet-napja/
LOCATION:Szatymazon a Nyár alatt\, Dózsa Gy. u. 42.\, Szatymaz\, Csongrád\, 6763\, Magyarország
ATTACH;FMTTYPE=image/jpeg:https://site.szatymaz.hu/wp-content/uploads/2026/04/versekkel.jpg
END:VEVENT
END:VCALENDAR