BEGIN:VCALENDAR
VERSION:2.0
PRODID:-//Szatymaz.hu - ECPv5.6.0//NONSGML v1.0//EN
CALSCALE:GREGORIAN
METHOD:PUBLISH
X-WR-CALNAME:Szatymaz.hu
X-ORIGINAL-URL:https://site.szatymaz.hu
X-WR-CALDESC:Events for Szatymaz.hu
BEGIN:VTIMEZONE
TZID:Europe/Helsinki
BEGIN:DAYLIGHT
TZOFFSETFROM:+0200
TZOFFSETTO:+0300
TZNAME:EEST
DTSTART:20230326T010000
END:DAYLIGHT
BEGIN:STANDARD
TZOFFSETFROM:+0300
TZOFFSETTO:+0200
TZNAME:EET
DTSTART:20231029T010000
END:STANDARD
BEGIN:DAYLIGHT
TZOFFSETFROM:+0200
TZOFFSETTO:+0300
TZNAME:EEST
DTSTART:20240331T010000
END:DAYLIGHT
BEGIN:STANDARD
TZOFFSETFROM:+0300
TZOFFSETTO:+0200
TZNAME:EET
DTSTART:20241027T010000
END:STANDARD
END:VTIMEZONE
BEGIN:VEVENT
DTSTART;TZID=Europe/Helsinki:20230610T100000
DTEND;TZID=Europe/Helsinki:20230610T140000
DTSTAMP:20260422T154200
CREATED:20230518T112718Z
LAST-MODIFIED:20230602T115859Z
UID:8193-1686391200-1686405600@site.szatymaz.hu
SUMMARY:Gyereknap
DESCRIPTION:Fedezd fel a Csipet-Csapat Gyereknap varázslatos világát!\n  \nCsatlakozz hozzánk június 10-én\, amikor a faluházban megrendezzük a legizgalmasabb gyereknapot!\nTölts velünk egy felejthetetlen napot a családod és barátaid körében\, és merülj el a játékosság és öröm örömteli légkörében. \n10:00-kor kezdődik a napunk ahol ünnepélyesen beindítjuk a Csipet-Csapat Gyereknapot.\nEzután elindulnak a kalandok! Pontgyűjtés\, játékos feladatok és csapatversenyek várnak rád\, hogy kiélhesd a versenyszellemet és megmutasd\, mire vagy képes! \nDe a gyereknap nemcsak a gyermekeknek szól! Készülj fel a belső gyermeked felszabadítására\, miközben részt veszel a szórakoztató és izgalmas tevékenységeinkben. Ugrálóvár\, játszószőnyeg és még lovacskázás is vár rád\, hogy minden pillanatot kihasználj ezen a különleges napon. \n14:00-kor pedig itt az idő a nagy izgalomra! A tombola résztvevői között fantasztikus nyereményeket sorsolunk ki\, amikkel még emlékezetesebbé teheted a gyereknapot. \nNe hagyd ki a lehetőséget\, hogy csatlakozz hozzánk ezen a különleges napon\, ahol a játék és öröm az egész család számára elérhetővé válik. \nVárunk szeretettel a Csipet-Csapat Gyereknapon június 10-én\, 10 és 14 óra között a faluházban!\n \nKészülj a kalandra és hozd magaddal a legjobb hangulatodat! \n 
URL:https://site.szatymaz.hu/esemeny/8193/
LOCATION:Szatymazi Faluház előtti tér\, Dózsa György utca 42.\, Szatymaz\, Csongrád - Csanád megye\, 6723\, Magyarország
ATTACH;FMTTYPE=image/jpeg:https://site.szatymaz.hu/wp-content/uploads/2023/05/Nevtelen-2.jpg
END:VEVENT
BEGIN:VEVENT
DTSTART;TZID=Europe/Helsinki:20231007T083000
DTEND;TZID=Europe/Helsinki:20231007T140000
DTSTAMP:20260422T154200
CREATED:20230921T095306Z
LAST-MODIFIED:20230921T095306Z
UID:9043-1696667400-1696687200@site.szatymaz.hu
SUMMARY:𝗙𝘂𝘁𝗮𝗳𝗮𝗹𝘂!
DESCRIPTION:𝗜𝗱𝗲́𝗻 𝗶𝘀 𝗙𝘂𝘁𝗮𝗳𝗮𝗹𝘂!\n\n8:30 regisztráció\n9:00 Bemelegítés\nTompa Márton – többszörös magyar bajnokkal és judo edzővel\nés\nKónya Ádám – Ifjúsági válogatott sportolóval\n\n9:30 Rajt\n10:30 levezetés\, életmódtanácsadás\nRajt: Dankó Pista Művelődési Ház\n\n 
URL:https://site.szatymaz.hu/esemeny/%f0%9d%97%99%f0%9d%98%82%f0%9d%98%81%f0%9d%97%ae%f0%9d%97%b3%f0%9d%97%ae%f0%9d%97%b9%f0%9d%98%82/
LOCATION:Szatymazi Faluház előtti tér\, Dózsa György utca 42.\, Szatymaz\, Csongrád - Csanád megye\, 6723\, Magyarország
END:VEVENT
BEGIN:VEVENT
DTSTART;TZID=Europe/Helsinki:20231203T160000
DTEND;TZID=Europe/Helsinki:20231203T190000
DTSTAMP:20260422T154200
CREATED:20231130T141515Z
LAST-MODIFIED:20231130T141515Z
UID:9575-1701619200-1701630000@site.szatymaz.hu
SUMMARY:Advent első vasárnapja
DESCRIPTION:
URL:https://site.szatymaz.hu/esemeny/advent-elso-vasarnapja/
LOCATION:Szatymazi Faluház előtti tér\, Dózsa György utca 42.\, Szatymaz\, Csongrád - Csanád megye\, 6723\, Magyarország
END:VEVENT
BEGIN:VEVENT
DTSTART;TZID=Europe/Helsinki:20231210T160000
DTEND;TZID=Europe/Helsinki:20231210T210000
DTSTAMP:20260422T154200
CREATED:20231206T094115Z
LAST-MODIFIED:20231206T094115Z
UID:9602-1702224000-1702242000@site.szatymaz.hu
SUMMARY:Szatymazi Adventi hétvégék
DESCRIPTION:2023. December 10. vasárnap \nFaluház \n16 órától kézműves vásár\, tea\, forralt bor\, Luca-pogácsa\, grincsfa készítés (kaspót hozzanak!) \n  \nMűsor \na Szent István Katolikus Általános Iskola tanulóinak előadása \n16:15 Lucázás – 2.a osztály \n16:30 Karácsonyi énekek – 3.a és 3.b osztály \n17:00 Diákmise (Ünnepi szentmise a templomban) \n  \nfellépnek még \nKiss Laura és Bartók Miklós Dániel \n  \n18:00 Ronda pulcsis villámcsődület \n18:15 Gyertyagyújtás \n  \nHozd magaddal a bögrédet és kérd abba az italod!
URL:https://site.szatymaz.hu/esemeny/szatymazi-adventi-hetvegek-2/
LOCATION:Szatymazi Faluház előtti tér\, Dózsa György utca 42.\, Szatymaz\, Csongrád - Csanád megye\, 6723\, Magyarország
END:VEVENT
BEGIN:VEVENT
DTSTART;TZID=Europe/Helsinki:20231217T160000
DTEND;TZID=Europe/Helsinki:20231217T210000
DTSTAMP:20260422T154200
CREATED:20231206T094245Z
LAST-MODIFIED:20231206T094245Z
UID:9607-1702828800-1702846800@site.szatymaz.hu
SUMMARY:Szatymazi Adventi hétvégék
DESCRIPTION:December 17. vasárnap\n\n16 órától a Faluház előtt \nkézműves vásár\, tea\, forralt bor\, hájas kifli\, hurka-kolbász \n  \nMűsor \na Szent István Katolikus Általános Iskola tanulóinak előadása \n16:15 A suszter manói – 7.b osztály \n16:40 Karácsony a világban – 6.a osztály \n  \n17:10 A Barackvirág óvoda – Katica\, Pillangó és Madárka csoportjai \nBarackvirág Népdalkör és a Csemeték citera együttes \n17:45 Ficánkák \n18:00 Trombitán játszik Blumenschein Gábor \n  \n18:15 Gyertyagyújtás
URL:https://site.szatymaz.hu/esemeny/szatymazi-adventi-hetvegek-3/
LOCATION:Szatymazi Faluház előtti tér\, Dózsa György utca 42.\, Szatymaz\, Csongrád - Csanád megye\, 6723\, Magyarország
END:VEVENT
BEGIN:VEVENT
DTSTART;TZID=Europe/Helsinki:20231223T160000
DTEND;TZID=Europe/Helsinki:20231223T170000
DTSTAMP:20260422T154200
CREATED:20231206T094425Z
LAST-MODIFIED:20231206T094425Z
UID:9611-1703347200-1703350800@site.szatymaz.hu
SUMMARY:Szatymazi Adventi Hétvégék
DESCRIPTION:December 23. szombat\n\n16 óra Gyertyagyújtás \n  \nfellép a Gyertyaláng Katolikus Énekkar és \na Sándorfalvi Adventisták gyülekezeti kórusa
URL:https://site.szatymaz.hu/esemeny/szatymazi-adventi-hetvegek-4/
LOCATION:Szatymazi Faluház előtti tér\, Dózsa György utca 42.\, Szatymaz\, Csongrád - Csanád megye\, 6723\, Magyarország
END:VEVENT
BEGIN:VEVENT
DTSTART;TZID=Europe/Helsinki:20240712T150000
DTEND;TZID=Europe/Helsinki:20240713T233000
DTSTAMP:20260422T154200
CREATED:20240423T145324Z
LAST-MODIFIED:20240711T110156Z
UID:10436-1720796400-1720913400@site.szatymaz.hu
SUMMARY:Őszibarack-fesztivál és falunap
DESCRIPTION:július 12. péntek\nAz Őszibarack-fesztivál a Facebookon \n16:00 Ünnepélyes megnyitó. A kitüntető címek átadása\n16:30 Az újszülöttek köszöntése\n17:00 Kiss Ferenc Vadászkürt Együttes\n17:30 Társastánc-versenytánc bemutató // Pálinkó Lujza Tánciskola\n18:00 A pálinkaverseny eredményhirdetése és pálinkaapród-avatás\n19:30 Exatlon eredményhirdetés\n20:00 Balázs Alex „ALEE”\n20:45 Útközband \nA futókörnél:\n17:30 Regisztráció\n18:00 Exatlon – ügyességi akadályverseny \njúlius 13. szombat\n9:30 II. Rácz László pörköltfőző emlékverseny és együtt főzés\n10:00 Palacsintaparti\, őszibarackos finomságok\, sütibörze\n10:30 Zenés gyerekműsor\n13:00 „Hazai vegyesvágott” – szatymazi művészeti csoportok\n15:00 A főzőverseny eredményhirdetése\n15:20 „Hazai vegyesvágott” – szatymazi művészeti csoportok\n16:00 Judo bemutató\n16:45 Kónya Krisztina és Szélpál Szilveszter operett műsora\n17:45 A Barackvirág népdalkör és a Csemeték citera együttes\n18:00 Európai népek fesztiválja / lengyel\, lett\, szlovák csoportok néptánc gála\n20:30 Retrock Band\n21:30 Urbán Edina & The Urban Legends\n22:20 KOCSIS TIBOR\n23:00 Utcabál a Minor zenekarral \nVíztorony tér\n8:00 Fogatosok\, lovasok gyülekezője\n10:00 Fogatos felvonulás a település utcáin\n12:30 Fogatos vetélkedő \nA nyár alatt\n10:00 Egész nap Piknik a nyár alatt a Rézeleje fanfárosokkal\n10:15 Zenés\, rezes felvonulás\n11:00 Hangszersimogató és ismerkedés a Rézeleje zenészeivel\n12:30 Jó ebédhez szól a fanfár – rezes felvonulás\n14:00 Hangszersimogató és ismerkedés a Rézeleje zenészeivel\n17:00 Rézeleje koncert és táncház \nItthon\, Szatymazon! – kiállítás\nŐszibarackos finomságok a Szatymazi Nőegylettől\nPalacsintaparty a Gondozási Központ munkatársaival\nVásári forgatag\, árusok\, mutatványosok \n  \n \n  \n  \n \n 
URL:https://site.szatymaz.hu/esemeny/oszibarackfesztival-es-falunap-3/
LOCATION:Szatymazi Faluház előtti tér\, Dózsa György utca 42.\, Szatymaz\, Csongrád - Csanád megye\, 6723\, Magyarország
END:VEVENT
BEGIN:VEVENT
DTSTART;TZID=Europe/Helsinki:20241104T080000
DTEND;TZID=Europe/Helsinki:20241110T190000
DTSTAMP:20260422T154200
CREATED:20240930T075524Z
LAST-MODIFIED:20241106T123128Z
UID:11430-1730707200-1731265200@site.szatymaz.hu
SUMMARY:Őszi egészséghét
DESCRIPTION:
URL:https://site.szatymaz.hu/esemeny/oszi-egeszseghet-szatymazon/
LOCATION:Szatymazi Faluház előtti tér\, Dózsa György utca 42.\, Szatymaz\, Csongrád - Csanád megye\, 6723\, Magyarország
ATTACH;FMTTYPE=image/jpeg:https://site.szatymaz.hu/wp-content/uploads/2024/09/elevated-view-stethoscope-with-heart-shape-near-fresh-vegetables-wooden-desk.jpg
END:VEVENT
BEGIN:VEVENT
DTSTART;TZID=Europe/Helsinki:20241110T080000
DTEND;TZID=Europe/Helsinki:20241110T120000
DTSTAMP:20260422T154200
CREATED:20240930T075238Z
LAST-MODIFIED:20240930T075238Z
UID:11426-1731225600-1731240000@site.szatymaz.hu
SUMMARY:Futafalu & Gurulafalu
DESCRIPTION:
URL:https://site.szatymaz.hu/esemeny/futafalu-gurulafalu-3/
LOCATION:Szatymazi Faluház előtti tér\, Dózsa György utca 42.\, Szatymaz\, Csongrád - Csanád megye\, 6723\, Magyarország
ATTACH;FMTTYPE=image/jpeg:https://site.szatymaz.hu/wp-content/uploads/2024/09/fut.jpg
END:VEVENT
END:VCALENDAR