BEGIN:VCALENDAR
VERSION:2.0
PRODID:-//Szatymaz.hu - ECPv5.6.0//NONSGML v1.0//EN
CALSCALE:GREGORIAN
METHOD:PUBLISH
X-WR-CALNAME:Szatymaz.hu
X-ORIGINAL-URL:https://site.szatymaz.hu
X-WR-CALDESC:Events for Szatymaz.hu
BEGIN:VTIMEZONE
TZID:Europe/Helsinki
BEGIN:DAYLIGHT
TZOFFSETFROM:+0200
TZOFFSETTO:+0300
TZNAME:EEST
DTSTART:20210328T010000
END:DAYLIGHT
BEGIN:STANDARD
TZOFFSETFROM:+0300
TZOFFSETTO:+0200
TZNAME:EET
DTSTART:20211031T010000
END:STANDARD
BEGIN:DAYLIGHT
TZOFFSETFROM:+0200
TZOFFSETTO:+0300
TZNAME:EEST
DTSTART:20220327T010000
END:DAYLIGHT
BEGIN:STANDARD
TZOFFSETFROM:+0300
TZOFFSETTO:+0200
TZNAME:EET
DTSTART:20221030T010000
END:STANDARD
BEGIN:DAYLIGHT
TZOFFSETFROM:+0200
TZOFFSETTO:+0300
TZNAME:EEST
DTSTART:20230326T010000
END:DAYLIGHT
BEGIN:STANDARD
TZOFFSETFROM:+0300
TZOFFSETTO:+0200
TZNAME:EET
DTSTART:20231029T010000
END:STANDARD
BEGIN:DAYLIGHT
TZOFFSETFROM:+0200
TZOFFSETTO:+0300
TZNAME:EEST
DTSTART:20240331T010000
END:DAYLIGHT
BEGIN:STANDARD
TZOFFSETFROM:+0300
TZOFFSETTO:+0200
TZNAME:EET
DTSTART:20241027T010000
END:STANDARD
END:VTIMEZONE
BEGIN:VEVENT
DTSTART;TZID=Europe/Helsinki:20210903T140000
DTEND;TZID=Europe/Helsinki:20210903T150000
DTSTAMP:20260422T141603
CREATED:20210818T121029Z
LAST-MODIFIED:20210818T121431Z
UID:4076-1630677600-1630681200@site.szatymaz.hu
SUMMARY:Tisza rézfúvós kvintett - Kamara zenekar Szatymazon
DESCRIPTION:Kvintettünk gerincét a Szegedi Szimfonikus Zenekar adja. Olyan repertoárral\, és kreativitással rendelkezünk\, mely minden rendezvény igényét kielégíti\, legyen az hangszerbemutató\, esküvő\, vagy kiállításmegnyitó.\nVárunk mindenkit sok szeretettel Szatymazra!\n\nA koncert ingyenes!
URL:https://site.szatymaz.hu/esemeny/tisza-rezfuvos-kvintett-kamara-zenekar-szatymazon/
LOCATION:Szatymazi Faluház előtti tér\, Dózsa György utca 42.\, Szatymaz\, Csongrád - Csanád megye\, 6723\, Magyarország
END:VEVENT
BEGIN:VEVENT
DTSTART;TZID=Europe/Helsinki:20210911T090000
DTEND;TZID=Europe/Helsinki:20210911T130000
DTSTAMP:20260422T141603
CREATED:20210824T073016Z
LAST-MODIFIED:20210824T073016Z
UID:4117-1631350800-1631365200@site.szatymaz.hu
SUMMARY:Villatúra Szatymazon!
DESCRIPTION:Gyertek és fedezzük fel együtt Szatymaz rejtett kincseit!\n\nSzeptember 11-én lovaskocsis villatúra Szatymazon! Gyülekező a Művelődési háznál 9 és 9:30között!\nElőzetes regisztráció szükséges a Művelődési facebook oldalán illetve e-mailen keresztül!
URL:https://site.szatymaz.hu/esemeny/villatura-szatymazon/
LOCATION:Szatymazi Faluház előtti tér\, Dózsa György utca 42.\, Szatymaz\, Csongrád - Csanád megye\, 6723\, Magyarország
END:VEVENT
BEGIN:VEVENT
DTSTART;TZID=Europe/Helsinki:20211010T080000
DTEND;TZID=Europe/Helsinki:20211010T120000
DTSTAMP:20260422T141603
CREATED:20210927T090712Z
LAST-MODIFIED:20210927T090712Z
UID:4209-1633852800-1633867200@site.szatymaz.hu
SUMMARY:Futafalu / Gurulafalu
DESCRIPTION:
URL:https://site.szatymaz.hu/esemeny/futafalu-gurulafalu/
LOCATION:Szatymazi Faluház előtti tér\, Dózsa György utca 42.\, Szatymaz\, Csongrád - Csanád megye\, 6723\, Magyarország
END:VEVENT
BEGIN:VEVENT
DTSTART;TZID=Europe/Helsinki:20211205T170000
DTEND;TZID=Europe/Helsinki:20211205T200000
DTSTAMP:20260422T141603
CREATED:20211202T125935Z
LAST-MODIFIED:20211202T130131Z
UID:4669-1638723600-1638734400@site.szatymaz.hu
SUMMARY:Szatymazi Adventi hétvége 2.0
DESCRIPTION:
URL:https://site.szatymaz.hu/esemeny/szatymazi-adventi-hetvege-2-0/
LOCATION:Szatymazi Faluház előtti tér\, Dózsa György utca 42.\, Szatymaz\, Csongrád - Csanád megye\, 6723\, Magyarország
ATTACH;FMTTYPE=image/jpeg:https://site.szatymaz.hu/wp-content/uploads/2021/12/2.jpg
END:VEVENT
BEGIN:VEVENT
DTSTART;TZID=Europe/Helsinki:20211212T170000
DTEND;TZID=Europe/Helsinki:20211212T200000
DTSTAMP:20260422T141603
CREATED:20211202T130328Z
LAST-MODIFIED:20211202T130328Z
UID:4675-1639328400-1639339200@site.szatymaz.hu
SUMMARY:Szatymazi Adventi hétvége 3.0
DESCRIPTION:
URL:https://site.szatymaz.hu/esemeny/szatymazi-adventi-hetvege-3-0/
LOCATION:Szatymazi Faluház előtti tér\, Dózsa György utca 42.\, Szatymaz\, Csongrád - Csanád megye\, 6723\, Magyarország
ATTACH;FMTTYPE=image/jpeg:https://site.szatymaz.hu/wp-content/uploads/2021/12/3.jpg
END:VEVENT
BEGIN:VEVENT
DTSTART;TZID=Europe/Helsinki:20211219T170000
DTEND;TZID=Europe/Helsinki:20211219T200000
DTSTAMP:20260422T141603
CREATED:20211202T130553Z
LAST-MODIFIED:20211202T130553Z
UID:4681-1639933200-1639944000@site.szatymaz.hu
SUMMARY:Szatymazi Adventi hétvége 4.0
DESCRIPTION:
URL:https://site.szatymaz.hu/esemeny/szatymazi-adventi-hetvege-4-0/
LOCATION:Szatymazi Faluház előtti tér\, Dózsa György utca 42.\, Szatymaz\, Csongrád - Csanád megye\, 6723\, Magyarország
ATTACH;FMTTYPE=image/jpeg:https://site.szatymaz.hu/wp-content/uploads/2021/12/4.jpg
END:VEVENT
BEGIN:VEVENT
DTSTART;VALUE=DATE:20220708
DTEND;VALUE=DATE:20220710
DTSTAMP:20260422T141603
CREATED:20220412T132215Z
LAST-MODIFIED:20220707T122254Z
UID:5406-1657238400-1657411199@site.szatymaz.hu
SUMMARY:Őszibarack-fesztivál és Falunap
DESCRIPTION:Az esemény a Fecebookon\njúlius 8.\, péntek\n\nA sátorban\n16:00 Megnyitó ünnepség\n16:30 Az újszülöttek köszöntése\n19:30 Exatlon eredményhirdetés\n20:00 Retrock Band \njúlius 9.\, szombat\nA ház körül\n9:00 Szatymazi pörköltfőzőverseny\n10:00 Palacsintaparty\n10:00 Fogatos felvonulás\n10:00 „Ízek ütközete a barackra hangolva” a Nőegylet sátránál \nA víztorony téren\n11:00 Fogatverseny \nA sátorban\n10:30 Gyermekműsor\n13:30 Hazai vegyes vágott (helyi művésazeti csoportok)\n14:45 A főzőverseny eredményhirdetése\n15:20 Az Ízek ütközete eredményhirdetése\n17:00 Pacsirták\n17:50 Tabatabai Nejad Flóra\n19:00 Mahó Andrea és Miller Zoltán\n20:00 Korda György és Balázs Klári\n21:30 Útközband Zenekar \nA szombat délután műsorvezetői: Szeberényi Klára és Fülöp lászló \nA szombati nap házigazdája: Szőke András \nPiknik a Nyár alatt\n10:00 Zenés\, táncos felvonulás\n11:30 Pörköltfőzők kérték – kívánságműsor\n13:30 Rézhúros Banda + Szárazér Néptáncegyüttes\n14.30 Ételkóstoló Szőke Andrással\n15:00 Otthonka divatbemutató és kiállítás nyitó Szőke Andrással\n16:30 Rézhúros Banda + Csanád Táncegyüttes\n18:00 Rézhúros-koncert\n18:30 Rézhúros Banda mulatós táncház \n\nEgész nap \nItthon Szatymazon kiállítás\nFonó Klub Makó\nFöldeáki Népművészeti és Hagyományőrző Egyesület\nZenei foglalkozások\, hangszersimogató\, tánctanítás\nGyermektér\, közösségi főzés\nArc- és testfestés ősmagyar motívumokkal\nVadászkaland gyerekeknek\nPreparálás bemutató\nHagyományőrző játékbirodalom \n  \n \n 
URL:https://site.szatymaz.hu/esemeny/oszibarackfesztival-es-falunap-2/
LOCATION:Szatymazi Faluház előtti tér\, Dózsa György utca 42.\, Szatymaz\, Csongrád - Csanád megye\, 6723\, Magyarország
END:VEVENT
BEGIN:VEVENT
DTSTART;TZID=Europe/Helsinki:20220903T140000
DTEND;TZID=Europe/Helsinki:20220903T230000
DTSTAMP:20260422T141603
CREATED:20220817T113231Z
LAST-MODIFIED:20220817T121510Z
UID:6349-1662213600-1662246000@site.szatymaz.hu
SUMMARY:Elrepült a nyár – nyárbúcsúztató „batyus" családi piknik
DESCRIPTION:Főzzünk együtt! vagy csak (l)együnk együtt! Köszönjünk el együtt a nyártól!\nCsaládoddal\, barátaiddal és/vagy kollégáiddal egy jóhangulatú nyárbúcsúztató közösségi piknikre.\nA desszertet mi adjuk!\nEnni való desszert: palacsinta a Gondozási Központ jóvoltából\, Vargabéles a Szatymazi Nőegylettől\nZenei desszert: 18 órától a ConChord Együttes zenél\nMozgóképes desszert: 20:30 órától kertmozi: Macskafogó\nMindenféle játékok gyerekeknek\, felnőtteknek!\nLesz büfé és pattogatott kukorica is! \nMINDEN PROGRAM INGYENES! \n\nAz esemény a Facebookon\n\nhttps://youtu.be/NYRZOqCv2J8
URL:https://site.szatymaz.hu/esemeny/elrepult-a-nyar-nyarbucsuztato-batyus-csaladi-piknik/
LOCATION:Szatymazi Faluház előtti tér\, Dózsa György utca 42.\, Szatymaz\, Csongrád - Csanád megye\, 6723\, Magyarország
ATTACH;FMTTYPE=image/jpeg:https://site.szatymaz.hu/wp-content/uploads/2022/08/macskafogo.jpg
END:VEVENT
BEGIN:VEVENT
DTSTART;TZID=Europe/Helsinki:20221009T080000
DTEND;TZID=Europe/Helsinki:20221009T110000
DTSTAMP:20260422T141603
CREATED:20220923T115724Z
LAST-MODIFIED:20220923T115724Z
UID:6658-1665302400-1665313200@site.szatymaz.hu
SUMMARY:Futafalu + Gurulafalu
DESCRIPTION:
URL:https://site.szatymaz.hu/esemeny/futafalu-gurulafalu-2/
LOCATION:Szatymazi Faluház előtti tér\, Dózsa György utca 42.\, Szatymaz\, Csongrád - Csanád megye\, 6723\, Magyarország
ATTACH;FMTTYPE=image/jpeg:https://site.szatymaz.hu/wp-content/uploads/2022/09/futafalu-plaki-22.jpg
END:VEVENT
BEGIN:VEVENT
DTSTART;TZID=Europe/Helsinki:20221204T160000
DTEND;TZID=Europe/Helsinki:20221204T210000
DTSTAMP:20260422T141604
CREATED:20221128T113215Z
LAST-MODIFIED:20221128T115527Z
UID:7070-1670169600-1670187600@site.szatymaz.hu
SUMMARY:Advent II. vasárnapja
DESCRIPTION:Advent II. vasárnapja\nDecember 4. \nFaluház\n16 órától              Hóesés a faluház előtt\, Iskolások műsora\, \n                    Mikulásvárás\, Grincsfa készítés \n  \n17:00                     Ünnepi szentmise a templomban \n18:15                     Gyertyagyújtás \n                     Köszöntőt mond Marótiné Balogh Zita \n                      Óvodások műsora \n… és megérkezik a Mikulás!\n  \nMindeközben \ntea\, forralt bor és zsíros kenyér a Nőegylet jóvoltából \npalacsinta a Gondozási központ jóvoltából \nkézműves vásár \nHozd magaddal a bögrédet és kérd ebbe italod!\n \n  \n 
URL:https://site.szatymaz.hu/esemeny/advent-ii-vasarnapja/
LOCATION:Szatymazi Faluház előtti tér\, Dózsa György utca 42.\, Szatymaz\, Csongrád - Csanád megye\, 6723\, Magyarország
END:VEVENT
BEGIN:VEVENT
DTSTART;TZID=Europe/Helsinki:20221211T160000
DTEND;TZID=Europe/Helsinki:20221211T210000
DTSTAMP:20260422T141604
CREATED:20221128T113229Z
LAST-MODIFIED:20221128T115454Z
UID:7073-1670774400-1670792400@site.szatymaz.hu
SUMMARY:Advent III. vasárnapja
DESCRIPTION:Advent III. vasárnapja\nDecember 11. vasárnap\nFaluház\n16:00     -tól         Ficánkák tánccsoport\, kisiskolások adventi műsora \n                   Szatymazi Aranycsillag Néptánccsoport\, Kiss Laura \n\n\nRonda karácsonyi pulcsis fotózkodás és villámcsődület (flashmob)!\n\n\n17:00                     Ünnepi szentmise a templomban \n18:15                     Gyertyagyújtás \n                    Köszöntőt mond Barna Károlyné \n                    Blumenschein Gábor trombitaszólója \nMindeközben \ntea\, forralt bor és Luca-pogácsa a Nőegylet jóvoltából \nhurka-kolbász a Gondozási központ jóvoltából \nkézműves vásár \nHozd magaddal a bögrédet és kérd ebbe italod!\n \n 
URL:https://site.szatymaz.hu/esemeny/advent-iii-vasarnapja/
LOCATION:Szatymazi Faluház előtti tér\, Dózsa György utca 42.\, Szatymaz\, Csongrád - Csanád megye\, 6723\, Magyarország
END:VEVENT
BEGIN:VEVENT
DTSTART;TZID=Europe/Helsinki:20221218T153000
DTEND;TZID=Europe/Helsinki:20221218T210000
DTSTAMP:20260422T141604
CREATED:20221128T113249Z
LAST-MODIFIED:20221212T125902Z
UID:7075-1671377400-1671397200@site.szatymaz.hu
SUMMARY:Advent IV. vasárnapja
DESCRIPTION:Advent IV. vasárnapja\nDecember 18. vasárnap\nFaluház\nA nagyterem színpadán: \n15:30     -tól         A Szent István Katolikus Általános Iskola karácsonyi műsora\, \n                   Barackvirág Népdalkör \n                   Szatymazi Színkör \n  \n17:00                     Ünnepi szentmise a Templomban \n18:15                     Gyertyagyújtás a Faluház előtt \n                    Köszöntőt mond Barna Károly és Sutka István \n18:30-tól a nagyteremben a Szegedi Classic Trió karácsonyi műsora \n  \nMindeközben \ntea\, forralt bor és meglepetés finomság a Nőegylet jóvoltából \nkézműves vásár \nHozd magaddal a bögrédet és kérd ebbe italod!\n \n  \n 
URL:https://site.szatymaz.hu/esemeny/advent-iv-vasarnapja/
LOCATION:Szatymazi Faluház előtti tér\, Dózsa György utca 42.\, Szatymaz\, Csongrád - Csanád megye\, 6723\, Magyarország
END:VEVENT
BEGIN:VEVENT
DTSTART;TZID=Europe/Helsinki:20230610T100000
DTEND;TZID=Europe/Helsinki:20230610T140000
DTSTAMP:20260422T141604
CREATED:20230518T112718Z
LAST-MODIFIED:20230602T115859Z
UID:8193-1686391200-1686405600@site.szatymaz.hu
SUMMARY:Gyereknap
DESCRIPTION:Fedezd fel a Csipet-Csapat Gyereknap varázslatos világát!\n  \nCsatlakozz hozzánk június 10-én\, amikor a faluházban megrendezzük a legizgalmasabb gyereknapot!\nTölts velünk egy felejthetetlen napot a családod és barátaid körében\, és merülj el a játékosság és öröm örömteli légkörében. \n10:00-kor kezdődik a napunk ahol ünnepélyesen beindítjuk a Csipet-Csapat Gyereknapot.\nEzután elindulnak a kalandok! Pontgyűjtés\, játékos feladatok és csapatversenyek várnak rád\, hogy kiélhesd a versenyszellemet és megmutasd\, mire vagy képes! \nDe a gyereknap nemcsak a gyermekeknek szól! Készülj fel a belső gyermeked felszabadítására\, miközben részt veszel a szórakoztató és izgalmas tevékenységeinkben. Ugrálóvár\, játszószőnyeg és még lovacskázás is vár rád\, hogy minden pillanatot kihasználj ezen a különleges napon. \n14:00-kor pedig itt az idő a nagy izgalomra! A tombola résztvevői között fantasztikus nyereményeket sorsolunk ki\, amikkel még emlékezetesebbé teheted a gyereknapot. \nNe hagyd ki a lehetőséget\, hogy csatlakozz hozzánk ezen a különleges napon\, ahol a játék és öröm az egész család számára elérhetővé válik. \nVárunk szeretettel a Csipet-Csapat Gyereknapon június 10-én\, 10 és 14 óra között a faluházban!\n \nKészülj a kalandra és hozd magaddal a legjobb hangulatodat! \n 
URL:https://site.szatymaz.hu/esemeny/8193/
LOCATION:Szatymazi Faluház előtti tér\, Dózsa György utca 42.\, Szatymaz\, Csongrád - Csanád megye\, 6723\, Magyarország
ATTACH;FMTTYPE=image/jpeg:https://site.szatymaz.hu/wp-content/uploads/2023/05/Nevtelen-2.jpg
END:VEVENT
BEGIN:VEVENT
DTSTART;TZID=Europe/Helsinki:20231007T083000
DTEND;TZID=Europe/Helsinki:20231007T140000
DTSTAMP:20260422T141604
CREATED:20230921T095306Z
LAST-MODIFIED:20230921T095306Z
UID:9043-1696667400-1696687200@site.szatymaz.hu
SUMMARY:𝗙𝘂𝘁𝗮𝗳𝗮𝗹𝘂!
DESCRIPTION:𝗜𝗱𝗲́𝗻 𝗶𝘀 𝗙𝘂𝘁𝗮𝗳𝗮𝗹𝘂!\n\n8:30 regisztráció\n9:00 Bemelegítés\nTompa Márton – többszörös magyar bajnokkal és judo edzővel\nés\nKónya Ádám – Ifjúsági válogatott sportolóval\n\n9:30 Rajt\n10:30 levezetés\, életmódtanácsadás\nRajt: Dankó Pista Művelődési Ház\n\n 
URL:https://site.szatymaz.hu/esemeny/%f0%9d%97%99%f0%9d%98%82%f0%9d%98%81%f0%9d%97%ae%f0%9d%97%b3%f0%9d%97%ae%f0%9d%97%b9%f0%9d%98%82/
LOCATION:Szatymazi Faluház előtti tér\, Dózsa György utca 42.\, Szatymaz\, Csongrád - Csanád megye\, 6723\, Magyarország
END:VEVENT
BEGIN:VEVENT
DTSTART;TZID=Europe/Helsinki:20231203T160000
DTEND;TZID=Europe/Helsinki:20231203T190000
DTSTAMP:20260422T141604
CREATED:20231130T141515Z
LAST-MODIFIED:20231130T141515Z
UID:9575-1701619200-1701630000@site.szatymaz.hu
SUMMARY:Advent első vasárnapja
DESCRIPTION:
URL:https://site.szatymaz.hu/esemeny/advent-elso-vasarnapja/
LOCATION:Szatymazi Faluház előtti tér\, Dózsa György utca 42.\, Szatymaz\, Csongrád - Csanád megye\, 6723\, Magyarország
END:VEVENT
BEGIN:VEVENT
DTSTART;TZID=Europe/Helsinki:20231210T160000
DTEND;TZID=Europe/Helsinki:20231210T210000
DTSTAMP:20260422T141604
CREATED:20231206T094115Z
LAST-MODIFIED:20231206T094115Z
UID:9602-1702224000-1702242000@site.szatymaz.hu
SUMMARY:Szatymazi Adventi hétvégék
DESCRIPTION:2023. December 10. vasárnap \nFaluház \n16 órától kézműves vásár\, tea\, forralt bor\, Luca-pogácsa\, grincsfa készítés (kaspót hozzanak!) \n  \nMűsor \na Szent István Katolikus Általános Iskola tanulóinak előadása \n16:15 Lucázás – 2.a osztály \n16:30 Karácsonyi énekek – 3.a és 3.b osztály \n17:00 Diákmise (Ünnepi szentmise a templomban) \n  \nfellépnek még \nKiss Laura és Bartók Miklós Dániel \n  \n18:00 Ronda pulcsis villámcsődület \n18:15 Gyertyagyújtás \n  \nHozd magaddal a bögrédet és kérd abba az italod!
URL:https://site.szatymaz.hu/esemeny/szatymazi-adventi-hetvegek-2/
LOCATION:Szatymazi Faluház előtti tér\, Dózsa György utca 42.\, Szatymaz\, Csongrád - Csanád megye\, 6723\, Magyarország
END:VEVENT
BEGIN:VEVENT
DTSTART;TZID=Europe/Helsinki:20231217T160000
DTEND;TZID=Europe/Helsinki:20231217T210000
DTSTAMP:20260422T141604
CREATED:20231206T094245Z
LAST-MODIFIED:20231206T094245Z
UID:9607-1702828800-1702846800@site.szatymaz.hu
SUMMARY:Szatymazi Adventi hétvégék
DESCRIPTION:December 17. vasárnap\n\n16 órától a Faluház előtt \nkézműves vásár\, tea\, forralt bor\, hájas kifli\, hurka-kolbász \n  \nMűsor \na Szent István Katolikus Általános Iskola tanulóinak előadása \n16:15 A suszter manói – 7.b osztály \n16:40 Karácsony a világban – 6.a osztály \n  \n17:10 A Barackvirág óvoda – Katica\, Pillangó és Madárka csoportjai \nBarackvirág Népdalkör és a Csemeték citera együttes \n17:45 Ficánkák \n18:00 Trombitán játszik Blumenschein Gábor \n  \n18:15 Gyertyagyújtás
URL:https://site.szatymaz.hu/esemeny/szatymazi-adventi-hetvegek-3/
LOCATION:Szatymazi Faluház előtti tér\, Dózsa György utca 42.\, Szatymaz\, Csongrád - Csanád megye\, 6723\, Magyarország
END:VEVENT
BEGIN:VEVENT
DTSTART;TZID=Europe/Helsinki:20231223T160000
DTEND;TZID=Europe/Helsinki:20231223T170000
DTSTAMP:20260422T141604
CREATED:20231206T094425Z
LAST-MODIFIED:20231206T094425Z
UID:9611-1703347200-1703350800@site.szatymaz.hu
SUMMARY:Szatymazi Adventi Hétvégék
DESCRIPTION:December 23. szombat\n\n16 óra Gyertyagyújtás \n  \nfellép a Gyertyaláng Katolikus Énekkar és \na Sándorfalvi Adventisták gyülekezeti kórusa
URL:https://site.szatymaz.hu/esemeny/szatymazi-adventi-hetvegek-4/
LOCATION:Szatymazi Faluház előtti tér\, Dózsa György utca 42.\, Szatymaz\, Csongrád - Csanád megye\, 6723\, Magyarország
END:VEVENT
BEGIN:VEVENT
DTSTART;TZID=Europe/Helsinki:20240712T150000
DTEND;TZID=Europe/Helsinki:20240713T233000
DTSTAMP:20260422T141604
CREATED:20240423T145324Z
LAST-MODIFIED:20240711T110156Z
UID:10436-1720796400-1720913400@site.szatymaz.hu
SUMMARY:Őszibarack-fesztivál és falunap
DESCRIPTION:július 12. péntek\nAz Őszibarack-fesztivál a Facebookon \n16:00 Ünnepélyes megnyitó. A kitüntető címek átadása\n16:30 Az újszülöttek köszöntése\n17:00 Kiss Ferenc Vadászkürt Együttes\n17:30 Társastánc-versenytánc bemutató // Pálinkó Lujza Tánciskola\n18:00 A pálinkaverseny eredményhirdetése és pálinkaapród-avatás\n19:30 Exatlon eredményhirdetés\n20:00 Balázs Alex „ALEE”\n20:45 Útközband \nA futókörnél:\n17:30 Regisztráció\n18:00 Exatlon – ügyességi akadályverseny \njúlius 13. szombat\n9:30 II. Rácz László pörköltfőző emlékverseny és együtt főzés\n10:00 Palacsintaparti\, őszibarackos finomságok\, sütibörze\n10:30 Zenés gyerekműsor\n13:00 „Hazai vegyesvágott” – szatymazi művészeti csoportok\n15:00 A főzőverseny eredményhirdetése\n15:20 „Hazai vegyesvágott” – szatymazi művészeti csoportok\n16:00 Judo bemutató\n16:45 Kónya Krisztina és Szélpál Szilveszter operett műsora\n17:45 A Barackvirág népdalkör és a Csemeték citera együttes\n18:00 Európai népek fesztiválja / lengyel\, lett\, szlovák csoportok néptánc gála\n20:30 Retrock Band\n21:30 Urbán Edina & The Urban Legends\n22:20 KOCSIS TIBOR\n23:00 Utcabál a Minor zenekarral \nVíztorony tér\n8:00 Fogatosok\, lovasok gyülekezője\n10:00 Fogatos felvonulás a település utcáin\n12:30 Fogatos vetélkedő \nA nyár alatt\n10:00 Egész nap Piknik a nyár alatt a Rézeleje fanfárosokkal\n10:15 Zenés\, rezes felvonulás\n11:00 Hangszersimogató és ismerkedés a Rézeleje zenészeivel\n12:30 Jó ebédhez szól a fanfár – rezes felvonulás\n14:00 Hangszersimogató és ismerkedés a Rézeleje zenészeivel\n17:00 Rézeleje koncert és táncház \nItthon\, Szatymazon! – kiállítás\nŐszibarackos finomságok a Szatymazi Nőegylettől\nPalacsintaparty a Gondozási Központ munkatársaival\nVásári forgatag\, árusok\, mutatványosok \n  \n \n  \n  \n \n 
URL:https://site.szatymaz.hu/esemeny/oszibarackfesztival-es-falunap-3/
LOCATION:Szatymazi Faluház előtti tér\, Dózsa György utca 42.\, Szatymaz\, Csongrád - Csanád megye\, 6723\, Magyarország
END:VEVENT
BEGIN:VEVENT
DTSTART;TZID=Europe/Helsinki:20241104T080000
DTEND;TZID=Europe/Helsinki:20241110T190000
DTSTAMP:20260422T141604
CREATED:20240930T075524Z
LAST-MODIFIED:20241106T123128Z
UID:11430-1730707200-1731265200@site.szatymaz.hu
SUMMARY:Őszi egészséghét
DESCRIPTION:
URL:https://site.szatymaz.hu/esemeny/oszi-egeszseghet-szatymazon/
LOCATION:Szatymazi Faluház előtti tér\, Dózsa György utca 42.\, Szatymaz\, Csongrád - Csanád megye\, 6723\, Magyarország
ATTACH;FMTTYPE=image/jpeg:https://site.szatymaz.hu/wp-content/uploads/2024/09/elevated-view-stethoscope-with-heart-shape-near-fresh-vegetables-wooden-desk.jpg
END:VEVENT
BEGIN:VEVENT
DTSTART;TZID=Europe/Helsinki:20241110T080000
DTEND;TZID=Europe/Helsinki:20241110T120000
DTSTAMP:20260422T141604
CREATED:20240930T075238Z
LAST-MODIFIED:20240930T075238Z
UID:11426-1731225600-1731240000@site.szatymaz.hu
SUMMARY:Futafalu & Gurulafalu
DESCRIPTION:
URL:https://site.szatymaz.hu/esemeny/futafalu-gurulafalu-3/
LOCATION:Szatymazi Faluház előtti tér\, Dózsa György utca 42.\, Szatymaz\, Csongrád - Csanád megye\, 6723\, Magyarország
ATTACH;FMTTYPE=image/jpeg:https://site.szatymaz.hu/wp-content/uploads/2024/09/fut.jpg
END:VEVENT
END:VCALENDAR