BEGIN:VCALENDAR
VERSION:2.0
PRODID:-//Szatymaz.hu - ECPv5.6.0//NONSGML v1.0//EN
CALSCALE:GREGORIAN
METHOD:PUBLISH
X-WR-CALNAME:Szatymaz.hu
X-ORIGINAL-URL:https://site.szatymaz.hu
X-WR-CALDESC:Events for Szatymaz.hu
BEGIN:VTIMEZONE
TZID:Europe/Helsinki
BEGIN:DAYLIGHT
TZOFFSETFROM:+0200
TZOFFSETTO:+0300
TZNAME:EEST
DTSTART:20210328T010000
END:DAYLIGHT
BEGIN:STANDARD
TZOFFSETFROM:+0300
TZOFFSETTO:+0200
TZNAME:EET
DTSTART:20211031T010000
END:STANDARD
BEGIN:DAYLIGHT
TZOFFSETFROM:+0200
TZOFFSETTO:+0300
TZNAME:EEST
DTSTART:20220327T010000
END:DAYLIGHT
BEGIN:STANDARD
TZOFFSETFROM:+0300
TZOFFSETTO:+0200
TZNAME:EET
DTSTART:20221030T010000
END:STANDARD
BEGIN:DAYLIGHT
TZOFFSETFROM:+0200
TZOFFSETTO:+0300
TZNAME:EEST
DTSTART:20230326T010000
END:DAYLIGHT
BEGIN:STANDARD
TZOFFSETFROM:+0300
TZOFFSETTO:+0200
TZNAME:EET
DTSTART:20231029T010000
END:STANDARD
BEGIN:DAYLIGHT
TZOFFSETFROM:+0200
TZOFFSETTO:+0300
TZNAME:EEST
DTSTART:20240331T010000
END:DAYLIGHT
BEGIN:STANDARD
TZOFFSETFROM:+0300
TZOFFSETTO:+0200
TZNAME:EET
DTSTART:20241027T010000
END:STANDARD
BEGIN:DAYLIGHT
TZOFFSETFROM:+0200
TZOFFSETTO:+0300
TZNAME:EEST
DTSTART:20250330T010000
END:DAYLIGHT
BEGIN:STANDARD
TZOFFSETFROM:+0300
TZOFFSETTO:+0200
TZNAME:EET
DTSTART:20251026T010000
END:STANDARD
END:VTIMEZONE
BEGIN:VEVENT
DTSTART;TZID=Europe/Helsinki:20210820T100000
DTEND;TZID=Europe/Helsinki:20210820T203000
DTSTAMP:20260419T153710
CREATED:20210714T161809Z
LAST-MODIFIED:20210719T165428Z
UID:3756-1629453600-1629491400@site.szatymaz.hu
SUMMARY:Öregfiúk futballtalálkozója
DESCRIPTION:
URL:https://site.szatymaz.hu/esemeny/oregfiuk-futballtalalkozoja/
LOCATION:Szatymaz SE sportpálya\, József A. u. 1.\, Szatymaz\, 6763
CATEGORIES:Esemény
END:VEVENT
BEGIN:VEVENT
DTSTART;TZID=Europe/Helsinki:20230501T080000
DTEND;TZID=Europe/Helsinki:20230501T170000
DTSTAMP:20260419T153710
CREATED:20230329T092707Z
LAST-MODIFIED:20230329T092707Z
UID:7808-1682928000-1682960400@site.szatymaz.hu
SUMMARY:Vreckó kupa - kispályás labdarúgó torna
DESCRIPTION:május 01-én 8 órától\n\nHelyszín a Szatymazi sportpálya \n  \nNevezési határidő április 28. \nNevezési díj 10 000 Ft/csapat \n5+1 fős csapatok jelentkezését várjuk! \n  \nInformáció és nevezés Toldi Lászlónál a 70/6840179 számon
URL:https://site.szatymaz.hu/esemeny/vrecko-kupa-kispalyas-labdarugo-torna/
LOCATION:Szatymaz SE sportpálya\, József A. u. 1.\, Szatymaz\, 6763
ATTACH;FMTTYPE=image/jpeg:https://site.szatymaz.hu/wp-content/uploads/2023/03/eventoci-1.jpg
END:VEVENT
BEGIN:VEVENT
DTSTART;TZID=Europe/Helsinki:20251019T083000
DTEND;TZID=Europe/Helsinki:20251019T120000
DTSTAMP:20260419T153710
CREATED:20251009T144422Z
LAST-MODIFIED:20251009T144422Z
UID:13694-1760862600-1760875200@site.szatymaz.hu
SUMMARY:FUTAFALU 2025
DESCRIPTION:Várunk mindenkit 2025. október 19-én (vasárnap) a Pumpapálya és Focipálya területére\, ahol együtt futhatunk\, gurulhatunk!\nHelyszín: Pumpapálya és FocipályaIdőpont: 2025. október 19. (vasárnap)\nProgram:\n 8:30 – Regisztráció\n 9:00 – Bemelegítés\n 9:30 – Futás & gurulás\n 10:30 – Levezetés\n\n Legyen szó futásról vagy gurulásról (roller\, gördeszka\, bicikli)\, itt a helyed – kicsiknek és nagyoknak egyaránt! Hozd magaddal a családot\, barátokat\, és mozogjunk együtt a szabadban!
URL:https://site.szatymaz.hu/esemeny/futafalu-2025/
LOCATION:Szatymaz SE sportpálya\, József A. u. 1.\, Szatymaz\, 6763
ATTACH;FMTTYPE=image/jpeg:https://site.szatymaz.hu/wp-content/uploads/2025/10/futafalu.jpg
END:VEVENT
END:VCALENDAR