BEGIN:VCALENDAR
VERSION:2.0
PRODID:-//Szatymaz.hu - ECPv5.6.0//NONSGML v1.0//EN
CALSCALE:GREGORIAN
METHOD:PUBLISH
X-WR-CALNAME:Szatymaz.hu
X-ORIGINAL-URL:https://site.szatymaz.hu
X-WR-CALDESC:Events for Szatymaz.hu
BEGIN:VTIMEZONE
TZID:Europe/Helsinki
BEGIN:DAYLIGHT
TZOFFSETFROM:+0200
TZOFFSETTO:+0300
TZNAME:EEST
DTSTART:20230326T010000
END:DAYLIGHT
BEGIN:STANDARD
TZOFFSETFROM:+0300
TZOFFSETTO:+0200
TZNAME:EET
DTSTART:20231029T010000
END:STANDARD
BEGIN:DAYLIGHT
TZOFFSETFROM:+0200
TZOFFSETTO:+0300
TZNAME:EEST
DTSTART:20240331T010000
END:DAYLIGHT
BEGIN:STANDARD
TZOFFSETFROM:+0300
TZOFFSETTO:+0200
TZNAME:EET
DTSTART:20241027T010000
END:STANDARD
BEGIN:DAYLIGHT
TZOFFSETFROM:+0200
TZOFFSETTO:+0300
TZNAME:EEST
DTSTART:20250330T010000
END:DAYLIGHT
BEGIN:STANDARD
TZOFFSETFROM:+0300
TZOFFSETTO:+0200
TZNAME:EET
DTSTART:20251026T010000
END:STANDARD
END:VTIMEZONE
BEGIN:VEVENT
DTSTART;TZID=Europe/Helsinki:20230121T160000
DTEND;TZID=Europe/Helsinki:20230121T173000
DTSTAMP:20260421T110627
CREATED:20230116T085203Z
LAST-MODIFIED:20230116T085203Z
UID:7354-1674316800-1674322200@site.szatymaz.hu
SUMMARY:A MAGYAR KULTÚRA NAPJA
DESCRIPTION:A MAGYAR KULTÚRA NAPJA SZATYMAZON \n\njanuár 21. szombaton 16 órai kezdéssel a faluházban.\n\nÜnnepi műsorral közreműködik a Szatymazi Színkör társulata \nHimnusz 200 – kiállítás\nVárunk mindenkit tisztelettel! \n \n  \n  \n  \n 
URL:https://site.szatymaz.hu/esemeny/a-magyar-kultura-napja/
LOCATION:Szatymaz\, 6723\, Magyarország
ATTACH;FMTTYPE=image/jpeg:https://site.szatymaz.hu/wp-content/uploads/2023/01/EVENT.jpg
END:VEVENT
BEGIN:VEVENT
DTSTART;TZID=Europe/Helsinki:20230329T080000
DTEND;TZID=Europe/Helsinki:20230329T170000
DTSTAMP:20260421T110627
CREATED:20230329T114709Z
LAST-MODIFIED:20230329T114709Z
UID:7824-1680076800-1680109200@site.szatymaz.hu
SUMMARY:Ünnepi miserend
DESCRIPTION:
URL:https://site.szatymaz.hu/esemeny/unnepi-miserend/
LOCATION:Szatymaz\, 6723\, Magyarország
ATTACH;FMTTYPE=image/jpeg:https://site.szatymaz.hu/wp-content/uploads/2023/03/miserendnyito.jpg
END:VEVENT
BEGIN:VEVENT
DTSTART;TZID=Europe/Helsinki:20231125T190000
DTEND;TZID=Europe/Helsinki:20231125T233000
DTSTAMP:20260421T110627
CREATED:20231031T102627Z
LAST-MODIFIED:20231114T145958Z
UID:9339-1700938800-1700955000@site.szatymaz.hu
SUMMARY:Szatymazi gazdabál
DESCRIPTION:
URL:https://site.szatymaz.hu/esemeny/szatymazi-gazdabal/
LOCATION:Szatymaz\, 6723\, Magyarország
ATTACH;FMTTYPE=image/jpeg:https://site.szatymaz.hu/wp-content/uploads/2023/10/gazdabal-meghiv-plakiOK.jpg
END:VEVENT
BEGIN:VEVENT
DTSTART;TZID=Europe/Helsinki:20241219T160000
DTEND;TZID=Europe/Helsinki:20241219T190000
DTSTAMP:20260421T110627
CREATED:20241203T114950Z
LAST-MODIFIED:20241203T114950Z
UID:12011-1734624000-1734634800@site.szatymaz.hu
SUMMARY:Karácsony köszöntés Szatymaz utcáin
DESCRIPTION:Álljunk ki a házunk elé vagy sétáljunk el a megadott éneklőpontokhoz egy szál gyertyával\, ha halljuk\, hogy közelednek a lovaskocsik a Betlehemezőkkel!\n2024. december 19-én csütörtököna templomtól indulunk 16 órakor\,\nmajd körbejárjuk a település utcáit a megadott útvonal alapján.\nTalálkozzunk a térképen pirossal jelölt éneklőpontoknál!
URL:https://site.szatymaz.hu/esemeny/karacsony-koszontes-szatymaz-utcain/
LOCATION:Szatymaz\, 6723\, Magyarország
ATTACH;FMTTYPE=image/jpeg:https://site.szatymaz.hu/wp-content/uploads/2024/12/betlehemes.jpg
END:VEVENT
BEGIN:VEVENT
DTSTART;TZID=Europe/Helsinki:20250920T100000
DTEND;TZID=Europe/Helsinki:20250920T153000
DTSTAMP:20260421T110627
CREATED:20250831T105533Z
LAST-MODIFIED:20250831T105533Z
UID:13483-1758362400-1758382200@site.szatymaz.hu
SUMMARY:Roma kulturális nap
DESCRIPTION:
URL:https://site.szatymaz.hu/esemeny/roma-kulturalis-nap/
LOCATION:Szatymaz\, 6723\, Magyarország
ATTACH;FMTTYPE=image/jpeg:https://site.szatymaz.hu/wp-content/uploads/2025/08/I.-Roma-nemzetisegi-W.jpg
END:VEVENT
BEGIN:VEVENT
DTSTART;TZID=Europe/Helsinki:20251219T180000
DTEND;TZID=Europe/Helsinki:20251219T200000
DTSTAMP:20260421T110627
CREATED:20251112T094745Z
LAST-MODIFIED:20251112T094745Z
UID:13955-1766167200-1766174400@site.szatymaz.hu
SUMMARY:Batyus kocsmakvíz
DESCRIPTION:Játékos vetélkedőre várjuk a csapatokat… \nGyere és mérd össze tudásod barátaiddal\, családoddal egy vidám\, ünnepi hangulatú műveltségi vetélkedőn!\nVárnak rád izgalmas karácsonyi és újévi témájú kérdések\, feladványok és sok nevetés!\nCsapatlétszám: 4–6 főFontos: Batyus jellegű rendezvény — hozz magaddal enni- és innivalót!\nJelentkezés:Küldd el a csapatnevet és a résztvevők számát a   dankomuvhaz@gmail.com címre\n További információ: 62/583-520\n A részvétel ingyenes\, de előzetes regisztráció szükséges!
URL:https://site.szatymaz.hu/esemeny/batyus-kocsmakviz/
LOCATION:Szatymaz\, 6723\, Magyarország
ATTACH;FMTTYPE=image/jpeg:https://site.szatymaz.hu/wp-content/uploads/2025/11/kocsmakviz.jpg
END:VEVENT
END:VCALENDAR